BEGIN:VCALENDAR
VERSION:2.0
PRODID:-//ThaiCham - ECPv6.15.12.2//NONSGML v1.0//EN
CALSCALE:GREGORIAN
METHOD:PUBLISH
X-WR-CALNAME:ThaiCham
X-ORIGINAL-URL:http://thaichamvn.org
X-WR-CALDESC:Events for ThaiCham
REFRESH-INTERVAL;VALUE=DURATION:PT1H
X-Robots-Tag:noindex
X-PUBLISHED-TTL:PT1H
BEGIN:VTIMEZONE
TZID:Asia/Krasnoyarsk
BEGIN:STANDARD
TZOFFSETFROM:+0700
TZOFFSETTO:+0700
TZNAME:+07
DTSTART:20240101T000000
END:STANDARD
END:VTIMEZONE
BEGIN:VEVENT
DTSTART;TZID=Asia/Krasnoyarsk:20250331T173000
DTEND;TZID=Asia/Krasnoyarsk:20250422T200000
DTSTAMP:20260422T073412
CREATED:20250414T063539Z
LAST-MODIFIED:20250414T092945Z
UID:10869-1743442200-1745352000@thaichamvn.org
SUMMARY:[Co-hosted] RAFFLES NIGHT: CONNECT & UNWIND by SingCham
DESCRIPTION:Join us for an exciting evening of networking\, meaningful conversations\, and new opportunities! This exclusive gathering brings together professionals from various industries to connect\, share insights\, and build valuable relationships in a relaxed and welcoming atmosphere. \n📅 Event Details: \n\nDate: Tuesday\, April 22nd\, 2025\nTime: 6:00 PM – 8:00 PM (Check-in starts at 5:30 PM)\nVenue: MOJO Café & Bistro – 14 Ly Nam De (REY Hotel)\, Hang Ma Ward\, Hoan Kiem District\, Hanoi\nDress Code: Smart Casual\nScale: 80-100 attendees\n\nRegistration Fees: \n\nSingCham Vietnam & Co-host members: 250\,000 VND\nNon-members: 300\,000 VND\n\nCanape and first drink included. Guests purchase 2nd drinks onwards with venue. \n📝 Tentative Agenda: \n\n05:30 PM – Check-in & Registration\n06:00 PM – Welcome Speech\n06:10 PM – Open Networking\n07:00 PM – Lucky Draw\n07:15 PM – Open Networking Continues\n07:45 PM – Lucky Draw\n08:00 PM – Closing Remarks\n\nGet ready for an engaging evening filled with great conversations\, business opportunities\, and exciting lucky draw prizes! \nInterested in joining us? Contact Ms. Chloe at linh.thai@singchamvn.org or (+84) 348.030.077 (Zalo/WhatsApp) for details! \nDon’t miss out – secure your spot today: https://bit.ly/hanoi-rn-april2025\nExplore sponsorship opportunities with us: https://bit.ly/RN-April-2025-sponsorship
URL:http://thaichamvn.org/events_calendar/raffles-night-connect-unwind-by-singcham/
CATEGORIES:Co-hosted & Supported Events,Upcoming Event
ATTACH;FMTTYPE=image/jpeg:http://thaichamvn.org/wp-content/uploads/2025/03/SingCham-Vietnam-RN-2025.jpg
END:VEVENT
END:VCALENDAR