BEGIN:VCALENDAR
VERSION:2.0
PRODID:-//ThaiCham - ECPv6.15.12.2//NONSGML v1.0//EN
CALSCALE:GREGORIAN
METHOD:PUBLISH
X-WR-CALNAME:ThaiCham
X-ORIGINAL-URL:http://thaichamvn.org
X-WR-CALDESC:Events for ThaiCham
REFRESH-INTERVAL;VALUE=DURATION:PT1H
X-Robots-Tag:noindex
X-PUBLISHED-TTL:PT1H
BEGIN:VTIMEZONE
TZID:Asia/Krasnoyarsk
BEGIN:STANDARD
TZOFFSETFROM:+0700
TZOFFSETTO:+0700
TZNAME:+07
DTSTART:20240101T000000
END:STANDARD
END:VTIMEZONE
BEGIN:VEVENT
DTSTART;TZID=Asia/Krasnoyarsk:20251016T080000
DTEND;TZID=Asia/Krasnoyarsk:20251108T170000
DTSTAMP:20260421T212845
CREATED:20251016T071738Z
LAST-MODIFIED:20251027T062317Z
UID:11807-1760601600-1762621200@thaichamvn.org
SUMMARY:[Canceled] LOY KRATHONG CELEBRATION 2025
DESCRIPTION:Let’s Welcome the Joyful Season of Loy Krathong! 🌕🎇 \nGet ready to celebrate one of Thailand’s most beautiful and meaningful festivals – Loy Krathong!\nJoin us for the 𝐋𝐨𝐲 𝐊𝐫𝐚𝐭𝐡𝐨𝐧𝐠 𝐂𝐞𝐥𝐞𝐛𝐫𝐚𝐭𝐢𝐨𝐧 𝟐𝟎𝟐𝟓 with ThaiCham\, and invite your friends and loved ones to experience this unforgettable night together.🌊🌸 \nLoy Krathong is a traditional Thai festival where people gather to float decorated baskets\, or krathongs\, on the water – a symbol of letting go of negativity and welcoming good fortune for the year ahead💫 \n📆 Date: Sat\, 08 November\, 2025\n⏰ Time: 17.00 – 21.00\n📍 Venue: Van Thanh Tourist Area\n(8/10 Dien Bien Phu\, Thanh My Tay Ward (formerly Binh Thanh Dist.)\, HCMC) \n🎟️ Ticket (table of 10 guests):\n– Member: 950\,000 VND/pax\n– Non-member: 1\,200\,000 VND/pax \n👉 Get your tickets at: https://forms.gle/cnpie58reTiK9UTK7 \nIn addition\, Sponsorship Opportunities are still open! See more details at: https://drive.google.com/file/d/1pmq-16CvlEwSiCwE4v6-gEoCl3eS8wQX/view?usp=sharing
URL:http://thaichamvn.org/events_calendar/loy-krathong-celebration-2025/
CATEGORIES:Upcoming Event
ATTACH;FMTTYPE=image/png:http://thaichamvn.org/wp-content/uploads/2025/10/POSTER-MOI-Official-01-scaled.png
END:VEVENT
BEGIN:VEVENT
DTSTART;TZID=Asia/Krasnoyarsk:20251017T080000
DTEND;TZID=Asia/Krasnoyarsk:20251108T170000
DTSTAMP:20260421T212845
CREATED:20251017T074229Z
LAST-MODIFIED:20251027T062303Z
UID:11813-1760688000-1762621200@thaichamvn.org
SUMMARY:[Canceled] The Noppamas Contest - A Highlight of Our Loy Krathong Celebration 2025!
DESCRIPTION:👑Step into the magic of Thai tradition and timeless beauty at The Noppamas Contest\, inspired by the legendary Nang Noppamas\, whose grace and creativity gave life to the very first krathong. 💐 \nAs part of our Loy Krathong Celebration 2025\, we invite you to join us at 𝐓𝐡𝐞 𝐍𝐨𝐩𝐩𝐚𝐦𝐚𝐬 𝐂𝐨𝐧𝐭𝐞𝐬𝐭.\nCelebrate beauty\, confidence\, and creativity in a fun and exclusive contest open to ThaiCham members – all genders\, ages\, and nationalities🌟 \n📆 Date: Sat\, 08 November\, 2025\n⏰ Time: 17.00 – 21.00\n📍 Venue: Van Thanh Tourist Area (8/10 Dien Bien Phu\, Thanh My Tay Ward (formerly Binh Thanh Dist.)\, HCMC) \n🎤The contest will be held in two rounds with theme “Promote Thai tourism or culture”:\n⭐Preliminary round: 🎥 Show Your Creativity!\n– Send a short video (not over than 2 minutes) with theme Promote Thai tourism or culture\n– The deadline for video submission is Oct 30\, 2025\n– We will select the top 5 most impressive contestants to advance to the final round. \n⭐ Final Round: On-Stage Performance on November 8\, 2025\nThe Top 5 finalists will take the stage to showcase their talents in a 3-minute performance\, followed by a Q&A session with the judges. Get ready to shine under the spotlight! ✨ \n> Register now and let your elegance shine!\nhttps://forms.gle/jEahc9zRU8PkbLqE7 \n👉 Don’t forget to Get your tickets to join our celebration here
URL:http://thaichamvn.org/events_calendar/the-noppamas-contest-a-highlight-of-our-loy-krathong-celebration-2025/
CATEGORIES:Upcoming Event
ATTACH;FMTTYPE=image/png:http://thaichamvn.org/wp-content/uploads/2025/10/POSTER-Noppamas-01-01-scaled.png
END:VEVENT
BEGIN:VEVENT
DTSTART;TZID=Asia/Krasnoyarsk:20251105T080000
DTEND;TZID=Asia/Krasnoyarsk:20251127T170000
DTSTAMP:20260421T212845
CREATED:20251105T024120Z
LAST-MODIFIED:20251105T024452Z
UID:11895-1762329600-1764262800@thaichamvn.org
SUMMARY:[Co-host] Networking: Connecting Talents Across Southeast Asia
DESCRIPTION:The Singapore Chamber of Commerce Vietnam (SingCham)\, in collaboration with the Malaysia Business Chamber (MBC)\, is excited to host a joint networking event — marking the first official gathering of the SingCham Education Sector Committee! \nJoin us as we connect educators\, professionals\, and business leaders passionate about nurturing student talents and strengthening the competitiveness of Vietnam-based companies. Don’t miss this opportunity to network\, exchange ideas\, and celebrate cross-chamber collaboration. \nEvent Details \n\nDate: Thursday\, November 27th\, 2025\nTime: 3 PM – 5 PM\nLocation: The Sentry C\, 15 Le Thanh Ton Street\, Sai Gon Ward\, HCMC (formerly Ben Nghe Ward\, D1\, HCMC)\nParticipation fee (teabreak included)\n\nSingCham/ MBC/ Co-host member: VND 200\,000\nNon-member: VND 300\,000\n\n\nRegistration link: https://bit.ly/education-networking\nAgenda\n\n3 PM – Check-in starts\, welcome guests\n30 PM – Opening Speech from SingCham and MBC Representative\n3:50 PM – Introduction of SingCham Education SC\n4:00 PM – Lucky Draws\n4:30 PM – Networking session connecting professionals and educators to foster cross-chamber collaboration and talent growth\n5:00 PM – Event ends
URL:http://thaichamvn.org/events_calendar/co-host-networking-connecting-talents-across-southeast-asia/
CATEGORIES:Co-hosted & Supported Events,Upcoming Event
END:VEVENT
END:VCALENDAR